BEGIN:VCALENDAR
VERSION:2.0
PRODID:-//Sai Region 3, USA, SSIO Zone 1 - ECPv6.15.20//NONSGML v1.0//EN
CALSCALE:GREGORIAN
METHOD:PUBLISH
X-WR-CALNAME:Sai Region 3, USA, SSIO Zone 1
X-ORIGINAL-URL:https://region3.sathyasai.us
X-WR-CALDESC:Events for Sai Region 3, USA, SSIO Zone 1
REFRESH-INTERVAL;VALUE=DURATION:PT1H
X-Robots-Tag:noindex
X-PUBLISHED-TTL:PT1H
BEGIN:VTIMEZONE
TZID:America/New_York
BEGIN:DAYLIGHT
TZOFFSETFROM:-0500
TZOFFSETTO:-0400
TZNAME:EDT
DTSTART:20140309T070000
END:DAYLIGHT
BEGIN:STANDARD
TZOFFSETFROM:-0400
TZOFFSETTO:-0500
TZNAME:EST
DTSTART:20141102T060000
END:STANDARD
BEGIN:DAYLIGHT
TZOFFSETFROM:-0500
TZOFFSETTO:-0400
TZNAME:EDT
DTSTART:20150308T070000
END:DAYLIGHT
BEGIN:STANDARD
TZOFFSETFROM:-0400
TZOFFSETTO:-0500
TZNAME:EST
DTSTART:20151101T060000
END:STANDARD
BEGIN:DAYLIGHT
TZOFFSETFROM:-0500
TZOFFSETTO:-0400
TZNAME:EDT
DTSTART:20160313T070000
END:DAYLIGHT
BEGIN:STANDARD
TZOFFSETFROM:-0400
TZOFFSETTO:-0500
TZNAME:EST
DTSTART:20161106T060000
END:STANDARD
BEGIN:DAYLIGHT
TZOFFSETFROM:-0500
TZOFFSETTO:-0400
TZNAME:EDT
DTSTART:20170312T070000
END:DAYLIGHT
BEGIN:STANDARD
TZOFFSETFROM:-0400
TZOFFSETTO:-0500
TZNAME:EST
DTSTART:20171105T060000
END:STANDARD
BEGIN:DAYLIGHT
TZOFFSETFROM:-0500
TZOFFSETTO:-0400
TZNAME:EDT
DTSTART:20180311T070000
END:DAYLIGHT
BEGIN:STANDARD
TZOFFSETFROM:-0400
TZOFFSETTO:-0500
TZNAME:EST
DTSTART:20181104T060000
END:STANDARD
BEGIN:DAYLIGHT
TZOFFSETFROM:-0500
TZOFFSETTO:-0400
TZNAME:EDT
DTSTART:20190310T070000
END:DAYLIGHT
BEGIN:STANDARD
TZOFFSETFROM:-0400
TZOFFSETTO:-0500
TZNAME:EST
DTSTART:20191103T060000
END:STANDARD
BEGIN:DAYLIGHT
TZOFFSETFROM:-0500
TZOFFSETTO:-0400
TZNAME:EDT
DTSTART:20200308T070000
END:DAYLIGHT
BEGIN:STANDARD
TZOFFSETFROM:-0400
TZOFFSETTO:-0500
TZNAME:EST
DTSTART:20201101T060000
END:STANDARD
BEGIN:DAYLIGHT
TZOFFSETFROM:-0500
TZOFFSETTO:-0400
TZNAME:EDT
DTSTART:20210314T070000
END:DAYLIGHT
BEGIN:STANDARD
TZOFFSETFROM:-0400
TZOFFSETTO:-0500
TZNAME:EST
DTSTART:20211107T060000
END:STANDARD
BEGIN:DAYLIGHT
TZOFFSETFROM:-0500
TZOFFSETTO:-0400
TZNAME:EDT
DTSTART:20220313T070000
END:DAYLIGHT
BEGIN:STANDARD
TZOFFSETFROM:-0400
TZOFFSETTO:-0500
TZNAME:EST
DTSTART:20221106T060000
END:STANDARD
BEGIN:DAYLIGHT
TZOFFSETFROM:-0500
TZOFFSETTO:-0400
TZNAME:EDT
DTSTART:20230312T070000
END:DAYLIGHT
BEGIN:STANDARD
TZOFFSETFROM:-0400
TZOFFSETTO:-0500
TZNAME:EST
DTSTART:20231105T060000
END:STANDARD
BEGIN:DAYLIGHT
TZOFFSETFROM:-0500
TZOFFSETTO:-0400
TZNAME:EDT
DTSTART:20240310T070000
END:DAYLIGHT
BEGIN:STANDARD
TZOFFSETFROM:-0400
TZOFFSETTO:-0500
TZNAME:EST
DTSTART:20241103T060000
END:STANDARD
BEGIN:DAYLIGHT
TZOFFSETFROM:-0500
TZOFFSETTO:-0400
TZNAME:EDT
DTSTART:20250309T070000
END:DAYLIGHT
BEGIN:STANDARD
TZOFFSETFROM:-0400
TZOFFSETTO:-0500
TZNAME:EST
DTSTART:20251102T060000
END:STANDARD
BEGIN:DAYLIGHT
TZOFFSETFROM:-0500
TZOFFSETTO:-0400
TZNAME:EDT
DTSTART:20260308T070000
END:DAYLIGHT
BEGIN:STANDARD
TZOFFSETFROM:-0400
TZOFFSETTO:-0500
TZNAME:EST
DTSTART:20261101T060000
END:STANDARD
END:VTIMEZONE
BEGIN:VEVENT
DTSTART;TZID=America/New_York:20250711T080000
DTEND;TZID=America/New_York:20250713T170000
DTSTAMP:20260423T161247
CREATED:20250303T164608Z
LAST-MODIFIED:20250303T164609Z
UID:451086-1752220800-1752426000@region3.sathyasai.us
SUMMARY:SSSIO USA National Conference and Children’s festival
DESCRIPTION:Kindly complete the pre-registration form at https://sssio.info/preregister by February 28\, 2025. Pre-registration helps us plan efficiently for this grand event.\n________________________________________\nSave the Date!\nStay tuned for more updates on registration and volunteer opportunities. We can’t wait to welcome you to this joyous occasion!
URL:https://region3.sathyasai.us/event/sssio-usa-national-conference-and-childrens-festival/
CATEGORIES:Devotional Activity,Service Activity,SSE Activity
ATTACH;FMTTYPE=image/avif:https://region3.sathyasai.us/wp-content/uploads/savethe-date-july-25.avif
END:VEVENT
BEGIN:VEVENT
DTSTART;VALUE=DATE:20250524
DTEND;VALUE=DATE:20250526
DTSTAMP:20260423T161247
CREATED:20250324T012619Z
LAST-MODIFIED:20250324T012620Z
UID:451149-1748044800-1748217599@region3.sathyasai.us
SUMMARY:2025 Memorial day Retreat
DESCRIPTION:
URL:https://region3.sathyasai.us/event/2025-memorial-day-retreat/
CATEGORIES:Devotional Activity,memorial day retreat,Service Activity,SSE Activity,women's wing
ATTACH;FMTTYPE=image/png:https://region3.sathyasai.us/wp-content/uploads/Purple-Modern-Giveaways-Flyer-Landscape-Real-Estate-Flyer.png
END:VEVENT
BEGIN:VEVENT
DTSTART;TZID=America/New_York:20220528T080000
DTEND;TZID=America/New_York:20220529T170000
DTSTAMP:20260423T161247
CREATED:20220214T230956Z
LAST-MODIFIED:20220214T230956Z
UID:449289-1653724800-1653843600@region3.sathyasai.us
SUMMARY:Region 3 Memorial Day Retreat
DESCRIPTION:will be updated soon. Please mark your calendar
URL:https://region3.sathyasai.us/event/region-3-memorial-day-retreat/
CATEGORIES:Devotional Activity,Service Activity,SSE Activity
END:VEVENT
BEGIN:VEVENT
DTSTART;TZID=America/New_York:20180915T080000
DTEND;TZID=America/New_York:20180915T130000
DTSTAMP:20260423T161247
CREATED:20180821T000634Z
LAST-MODIFIED:20180821T000711Z
UID:442888-1536998400-1537016400@region3.sathyasai.us
SUMMARY:Free Healthcare Day – Raleigh\, NC
DESCRIPTION:For details please see this post
URL:https://region3.sathyasai.us/event/free-healthcare-day-raleigh-nc/
LOCATION:Location 3\, 1801 Hillsborough St\, Raleigh\, NC\, United States
CATEGORIES:Service Activity
END:VEVENT
BEGIN:VEVENT
DTSTART;TZID=America/New_York:20170125T210000
DTEND;TZID=America/New_York:20170125T220000
DTSTAMP:20260423T161247
CREATED:20170123T024624Z
LAST-MODIFIED:20170808T183533Z
UID:113616-1485378000-1485381600@region3.sathyasai.us
SUMMARY:Service - Guest Speaker Series
DESCRIPTION:Talk By Dr. Geetha Kamat: \n– Video (Webex): https://meetings.webex.com/collabs/#/meetings/detail?uuid=MBJYYBHIMDVZGACU6BCOUNCNQY-4O4&rnd=197073.15988 \n– US TOLL: +1-415-655-0001\n– Mtg. #: 198 080 238
URL:https://region3.sathyasai.us/event/service-guest-speaker-series/
CATEGORIES:Service Activity
END:VEVENT
BEGIN:VEVENT
DTSTART;TZID=America/New_York:20151003T143000
DTEND;TZID=America/New_York:20151003T170000
DTSTAMP:20260423T161247
CREATED:20150929T173311Z
LAST-MODIFIED:20150929T173311Z
UID:35566-1443882600-1443891600@region3.sathyasai.us
SUMMARY:Walk For Values - Raleigh
DESCRIPTION:Please see this post for more details: Walk For Values
URL:https://region3.sathyasai.us/event/walk-for-values-raleigh/
CATEGORIES:Service Activity,SSE Activity
END:VEVENT
END:VCALENDAR