BEGIN:VCALENDAR
VERSION:2.0
PRODID:-//Sai Region 3, USA, SSIO Zone 1 - ECPv6.15.20//NONSGML v1.0//EN
CALSCALE:GREGORIAN
METHOD:PUBLISH
X-ORIGINAL-URL:https://region3.sathyasai.us
X-WR-CALDESC:Events for Sai Region 3, USA, SSIO Zone 1
REFRESH-INTERVAL;VALUE=DURATION:PT1H
X-Robots-Tag:noindex
X-PUBLISHED-TTL:PT1H
BEGIN:VTIMEZONE
TZID:America/New_York
BEGIN:DAYLIGHT
TZOFFSETFROM:-0500
TZOFFSETTO:-0400
TZNAME:EDT
DTSTART:20150308T070000
END:DAYLIGHT
BEGIN:STANDARD
TZOFFSETFROM:-0400
TZOFFSETTO:-0500
TZNAME:EST
DTSTART:20151101T060000
END:STANDARD
BEGIN:DAYLIGHT
TZOFFSETFROM:-0500
TZOFFSETTO:-0400
TZNAME:EDT
DTSTART:20160313T070000
END:DAYLIGHT
BEGIN:STANDARD
TZOFFSETFROM:-0400
TZOFFSETTO:-0500
TZNAME:EST
DTSTART:20161106T060000
END:STANDARD
BEGIN:DAYLIGHT
TZOFFSETFROM:-0500
TZOFFSETTO:-0400
TZNAME:EDT
DTSTART:20170312T070000
END:DAYLIGHT
BEGIN:STANDARD
TZOFFSETFROM:-0400
TZOFFSETTO:-0500
TZNAME:EST
DTSTART:20171105T060000
END:STANDARD
BEGIN:DAYLIGHT
TZOFFSETFROM:-0500
TZOFFSETTO:-0400
TZNAME:EDT
DTSTART:20180311T070000
END:DAYLIGHT
BEGIN:STANDARD
TZOFFSETFROM:-0400
TZOFFSETTO:-0500
TZNAME:EST
DTSTART:20181104T060000
END:STANDARD
BEGIN:DAYLIGHT
TZOFFSETFROM:-0500
TZOFFSETTO:-0400
TZNAME:EDT
DTSTART:20190310T070000
END:DAYLIGHT
BEGIN:STANDARD
TZOFFSETFROM:-0400
TZOFFSETTO:-0500
TZNAME:EST
DTSTART:20191103T060000
END:STANDARD
BEGIN:DAYLIGHT
TZOFFSETFROM:-0500
TZOFFSETTO:-0400
TZNAME:EDT
DTSTART:20200308T070000
END:DAYLIGHT
BEGIN:STANDARD
TZOFFSETFROM:-0400
TZOFFSETTO:-0500
TZNAME:EST
DTSTART:20201101T060000
END:STANDARD
BEGIN:DAYLIGHT
TZOFFSETFROM:-0500
TZOFFSETTO:-0400
TZNAME:EDT
DTSTART:20210314T070000
END:DAYLIGHT
BEGIN:STANDARD
TZOFFSETFROM:-0400
TZOFFSETTO:-0500
TZNAME:EST
DTSTART:20211107T060000
END:STANDARD
END:VTIMEZONE
BEGIN:VEVENT
DTSTART;TZID=America/New_York:20200221T000000
DTEND;TZID=America/New_York:20200221T000000
DTSTAMP:20260424T020558
CREATED:20200110T185325Z
LAST-MODIFIED:20200110T185325Z
UID:445872-1582243200-1582243200@region3.sathyasai.us
SUMMARY:Maha Shivratri
DESCRIPTION:
URL:https://region3.sathyasai.us/event/maha-shivratri/
CATEGORIES:Devotional Activity
END:VEVENT
BEGIN:VEVENT
DTSTART;TZID=America/New_York:20200125T000000
DTEND;TZID=America/New_York:20200125T000000
DTSTAMP:20260424T020558
CREATED:20200110T185325Z
LAST-MODIFIED:20200110T185325Z
UID:445871-1579910400-1579910400@region3.sathyasai.us
SUMMARY:Lunar New Year
DESCRIPTION:
URL:https://region3.sathyasai.us/event/lunar-new-year/
CATEGORIES:Devotional Activity
END:VEVENT
BEGIN:VEVENT
DTSTART;TZID=America/New_York:20200115T000000
DTEND;TZID=America/New_York:20200115T000000
DTSTAMP:20260424T020558
CREATED:20200110T185325Z
LAST-MODIFIED:20200110T185325Z
UID:445870-1579046400-1579046400@region3.sathyasai.us
SUMMARY:Makara Sankranti
DESCRIPTION:
URL:https://region3.sathyasai.us/event/makara-sankranti/
CATEGORIES:Devotional Activity
END:VEVENT
BEGIN:VEVENT
DTSTART;TZID=America/New_York:20200101T000000
DTEND;TZID=America/New_York:20200101T000000
DTSTAMP:20260424T020558
CREATED:20200110T185325Z
LAST-MODIFIED:20200110T185325Z
UID:445869-1577836800-1577836800@region3.sathyasai.us
SUMMARY:New Year's Day
DESCRIPTION:
URL:https://region3.sathyasai.us/event/new-years-day/
CATEGORIES:Devotional Activity
END:VEVENT
BEGIN:VEVENT
DTSTART;TZID=America/New_York:20190226T000000
DTEND;TZID=America/New_York:20190226T000000
DTSTAMP:20260424T020558
CREATED:20200110T185325Z
LAST-MODIFIED:20200110T185325Z
UID:445873-1551139200-1551139200@region3.sathyasai.us
SUMMARY:Ash Wednesday
DESCRIPTION:
URL:https://region3.sathyasai.us/event/ash-wednesday/
CATEGORIES:Devotional Activity
END:VEVENT
BEGIN:VEVENT
DTSTART;TZID=America/New_York:20181118T000000
DTEND;TZID=America/New_York:20181118T000000
DTSTAMP:20260424T020558
CREATED:20200110T185332Z
LAST-MODIFIED:20200110T185332Z
UID:445903-1542499200-1542499200@region3.sathyasai.us
SUMMARY:Chariot Festival (Rathotsavam)
DESCRIPTION:
URL:https://region3.sathyasai.us/event/chariot-festival-rathotsavam/
CATEGORIES:Devotional Activity
END:VEVENT
BEGIN:VEVENT
DTSTART;TZID=America/New_York:20180908T090000
DTEND;TZID=America/New_York:20180908T180000
DTSTAMP:20260424T020558
CREATED:20180811T121321Z
LAST-MODIFIED:20180811T121942Z
UID:442850-1536397200-1536429600@region3.sathyasai.us
SUMMARY:One With Sai – Mini Retreat – Anderson\, SC
DESCRIPTION:Please see this post for details.
URL:https://region3.sathyasai.us/event/one-with-sai-mini-retreat-anderson-sc/
LOCATION:Location\, 1403 E Greenville St\, Anderson\, SC\, 29621\, United States
CATEGORIES:Devotional Activity
END:VEVENT
BEGIN:VEVENT
DTSTART;VALUE=DATE:20180831
DTEND;VALUE=DATE:20180903
DTSTAMP:20260424T020558
CREATED:20180811T122152Z
LAST-MODIFIED:20180811T122255Z
UID:442853-1535673600-1535932799@region3.sathyasai.us
SUMMARY:SAI-LENT RETREAT 2018
DESCRIPTION:The Ft. Lauderdale Center is hosting a mini-retreat and they are graciously inviting all Florida centers and group. This will be the first Silent “Sai-Lent” retreat in our region. They have been blessed to have an outstanding keynote speaker\, Dr. Venkat Sadanand\, to inspire and elevate us all.
URL:https://region3.sathyasai.us/event/sai-lent-retreat-2018/
LOCATION:Location 2\, 7305 County Road 78\, LaBelle\, FL\, 33935\, United States
CATEGORIES:Devotional Activity
END:VEVENT
BEGIN:VEVENT
DTSTART;TZID=America/New_York:20170526T180000
DTEND;TZID=America/New_York:20170529T100000
DTSTAMP:20260424T020558
CREATED:20161216T000010Z
LAST-MODIFIED:20170808T183020Z
UID:112759-1495821600-1496052000@region3.sathyasai.us
SUMMARY:Regional Retreat 2017
DESCRIPTION:Please visit Retreat 2017 for complete details
URL:https://region3.sathyasai.us/event/regional-retreat-2017/
LOCATION:Location\, 1403 E Greenville St\, Anderson\, SC\, 29621\, United States
CATEGORIES:Devotional Activity
END:VEVENT
BEGIN:VEVENT
DTSTART;TZID=America/New_York:20161022T084500
DTEND;TZID=America/New_York:20161022T170000
DTSTAMP:20260424T020558
CREATED:20161008T145437Z
LAST-MODIFIED:20170808T183039Z
UID:87878-1477125900-1477155600@region3.sathyasai.us
SUMMARY:Avatar Declaration Day Celebration in Greensboro\, NC
DESCRIPTION:Please see this post for more details.
URL:https://region3.sathyasai.us/event/avatar-declaration-day-celebration-in-greensboro-nc/
CATEGORIES:Devotional Activity
END:VEVENT
BEGIN:VEVENT
DTSTART;TZID=America/New_York:20160527T180000
DTEND;TZID=America/New_York:20160530T120000
DTSTAMP:20260424T020558
CREATED:20160313T152356Z
LAST-MODIFIED:20160313T152607Z
UID:37305-1464372000-1464609600@region3.sathyasai.us
SUMMARY:Annual Regional Retreat 2016
DESCRIPTION:Please see this post for more information: Retreat Announcement.
URL:https://region3.sathyasai.us/event/annual-regional-retreat-2016/
LOCATION:Location\, 1403 E Greenville St\, Anderson\, SC\, 29621\, United States
CATEGORIES:Devotional Activity,SSE Activity
END:VEVENT
END:VCALENDAR